
BEGIN:VCALENDAR
VERSION:2.0
PRODID:-//Snyder Bible Church - ECPv6.15.20//NONSGML v1.0//EN
CALSCALE:GREGORIAN
METHOD:PUBLISH
X-ORIGINAL-URL:https://www.snyderbible.com
X-WR-CALDESC:Events for Snyder Bible Church
REFRESH-INTERVAL;VALUE=DURATION:PT1H
X-Robots-Tag:noindex
X-PUBLISHED-TTL:PT1H
BEGIN:VTIMEZONE
TZID:America/Denver
BEGIN:DAYLIGHT
TZOFFSETFROM:-0700
TZOFFSETTO:-0600
TZNAME:MDT
DTSTART:20240310T090000
END:DAYLIGHT
BEGIN:STANDARD
TZOFFSETFROM:-0600
TZOFFSETTO:-0700
TZNAME:MST
DTSTART:20241103T080000
END:STANDARD
BEGIN:DAYLIGHT
TZOFFSETFROM:-0700
TZOFFSETTO:-0600
TZNAME:MDT
DTSTART:20250309T090000
END:DAYLIGHT
BEGIN:STANDARD
TZOFFSETFROM:-0600
TZOFFSETTO:-0700
TZNAME:MST
DTSTART:20251102T080000
END:STANDARD
BEGIN:DAYLIGHT
TZOFFSETFROM:-0700
TZOFFSETTO:-0600
TZNAME:MDT
DTSTART:20260308T090000
END:DAYLIGHT
BEGIN:STANDARD
TZOFFSETFROM:-0600
TZOFFSETTO:-0700
TZNAME:MST
DTSTART:20261101T080000
END:STANDARD
END:VTIMEZONE
BEGIN:VEVENT
DTSTART;TZID=America/Denver:20250715T080000
DTEND;TZID=America/Denver:20250715T190000
DTSTAMP:20260421T110620
CREATED:20250609T163045Z
LAST-MODIFIED:20250625T165715Z
UID:12944-1752566400-1752606000@www.snyderbible.com
SUMMARY:Clothing Free-4-All Clothing Drop off Day
DESCRIPTION:The Clothing Free-4-All starts Tuesday\, July 15th. From July 15th – July 17th\, you can bring clothes to the All Purpose Building at the Church from 8 a.m. – 7 p.m. daily \nJuly 18th – 19th are “shopping days” from 9 a.m. – 7 p.m. on Friday\, July 18th and 9 a.m. – noon on Saturday\, July 19th. \n 
URL:https://www.snyderbible.com/event/clothing-free-4-all-13/
LOCATION:All Purpose Building at Snyder Bible Church\, 22622 Fisher Ave.\, Snyder\, CO\, United States
END:VEVENT
END:VCALENDAR