
BEGIN:VCALENDAR
VERSION:2.0
PRODID:-//Snyder Bible Church - ECPv6.15.20//NONSGML v1.0//EN
CALSCALE:GREGORIAN
METHOD:PUBLISH
X-WR-CALNAME:Snyder Bible Church
X-ORIGINAL-URL:https://www.snyderbible.com
X-WR-CALDESC:Events for Snyder Bible Church
REFRESH-INTERVAL;VALUE=DURATION:PT1H
X-Robots-Tag:noindex
X-PUBLISHED-TTL:PT1H
BEGIN:VTIMEZONE
TZID:America/Denver
BEGIN:DAYLIGHT
TZOFFSETFROM:-0700
TZOFFSETTO:-0600
TZNAME:MDT
DTSTART:20240310T090000
END:DAYLIGHT
BEGIN:STANDARD
TZOFFSETFROM:-0600
TZOFFSETTO:-0700
TZNAME:MST
DTSTART:20241103T080000
END:STANDARD
BEGIN:DAYLIGHT
TZOFFSETFROM:-0700
TZOFFSETTO:-0600
TZNAME:MDT
DTSTART:20250309T090000
END:DAYLIGHT
BEGIN:STANDARD
TZOFFSETFROM:-0600
TZOFFSETTO:-0700
TZNAME:MST
DTSTART:20251102T080000
END:STANDARD
BEGIN:DAYLIGHT
TZOFFSETFROM:-0700
TZOFFSETTO:-0600
TZNAME:MDT
DTSTART:20260308T090000
END:DAYLIGHT
BEGIN:STANDARD
TZOFFSETFROM:-0600
TZOFFSETTO:-0700
TZNAME:MST
DTSTART:20261101T080000
END:STANDARD
END:VTIMEZONE
BEGIN:VEVENT
DTSTART;VALUE=DATE:20250720
DTEND;VALUE=DATE:20250724
DTSTAMP:20260418T022501
CREATED:20250609T172301Z
LAST-MODIFIED:20250609T172301Z
UID:12950-1752969600-1753315199@www.snyderbible.com
SUMMARY:Men's Campout
DESCRIPTION:They will leave after worship service on the 20th
URL:https://www.snyderbible.com/event/mens-campout-4/
LOCATION:CO
CATEGORIES:Men's Event
END:VEVENT
END:VCALENDAR