
BEGIN:VCALENDAR
VERSION:2.0
PRODID:-//Snyder Bible Church - ECPv6.15.20//NONSGML v1.0//EN
CALSCALE:GREGORIAN
METHOD:PUBLISH
X-ORIGINAL-URL:https://www.snyderbible.com
X-WR-CALDESC:Events for Snyder Bible Church
REFRESH-INTERVAL;VALUE=DURATION:PT1H
X-Robots-Tag:noindex
X-PUBLISHED-TTL:PT1H
BEGIN:VTIMEZONE
TZID:America/Denver
BEGIN:DAYLIGHT
TZOFFSETFROM:-0700
TZOFFSETTO:-0600
TZNAME:MDT
DTSTART:20240310T090000
END:DAYLIGHT
BEGIN:STANDARD
TZOFFSETFROM:-0600
TZOFFSETTO:-0700
TZNAME:MST
DTSTART:20241103T080000
END:STANDARD
BEGIN:DAYLIGHT
TZOFFSETFROM:-0700
TZOFFSETTO:-0600
TZNAME:MDT
DTSTART:20250309T090000
END:DAYLIGHT
BEGIN:STANDARD
TZOFFSETFROM:-0600
TZOFFSETTO:-0700
TZNAME:MST
DTSTART:20251102T080000
END:STANDARD
BEGIN:DAYLIGHT
TZOFFSETFROM:-0700
TZOFFSETTO:-0600
TZNAME:MDT
DTSTART:20260308T090000
END:DAYLIGHT
BEGIN:STANDARD
TZOFFSETFROM:-0600
TZOFFSETTO:-0700
TZNAME:MST
DTSTART:20261101T080000
END:STANDARD
END:VTIMEZONE
BEGIN:VEVENT
DTSTART;TZID=America/Denver:20250913T180000
DTEND;TZID=America/Denver:20250913T193000
DTSTAMP:20260418T234211
CREATED:20250819T200739Z
LAST-MODIFIED:20250821T212548Z
UID:13142-1757786400-1757791800@www.snyderbible.com
SUMMARY:Christian Illusionist: David and Teesha Laflin
DESCRIPTION:Join us for a night of fun and it’s FREE! \nTheir incredible show entertains and inspires audiences in a brilliantly\, unique way.  The show features spectacular illusions\, incredible sleight of hand\, audience participation\, lots of laughter\, and much more.  Most importantly\, the message of Jesus Christ is shared in a clear and unforgettable way.  This is an event your family will thoroughly enjoy together and will be talking about for years to come!
URL:https://www.snyderbible.com/event/christian-illusionist-david-and-teesha-lauflin/
LOCATION:Snyder Bible Church\, 22622 Fisher Ave.\, Snyder\, CO\, 80750
END:VEVENT
END:VCALENDAR