
BEGIN:VCALENDAR
VERSION:2.0
PRODID:-//Snyder Bible Church - ECPv6.15.20//NONSGML v1.0//EN
CALSCALE:GREGORIAN
METHOD:PUBLISH
X-WR-CALNAME:Snyder Bible Church
X-ORIGINAL-URL:https://www.snyderbible.com
X-WR-CALDESC:Events for Snyder Bible Church
REFRESH-INTERVAL;VALUE=DURATION:PT1H
X-Robots-Tag:noindex
X-PUBLISHED-TTL:PT1H
BEGIN:VTIMEZONE
TZID:America/Denver
BEGIN:DAYLIGHT
TZOFFSETFROM:-0700
TZOFFSETTO:-0600
TZNAME:MDT
DTSTART:20240310T090000
END:DAYLIGHT
BEGIN:STANDARD
TZOFFSETFROM:-0600
TZOFFSETTO:-0700
TZNAME:MST
DTSTART:20241103T080000
END:STANDARD
BEGIN:DAYLIGHT
TZOFFSETFROM:-0700
TZOFFSETTO:-0600
TZNAME:MDT
DTSTART:20250309T090000
END:DAYLIGHT
BEGIN:STANDARD
TZOFFSETFROM:-0600
TZOFFSETTO:-0700
TZNAME:MST
DTSTART:20251102T080000
END:STANDARD
BEGIN:DAYLIGHT
TZOFFSETFROM:-0700
TZOFFSETTO:-0600
TZNAME:MDT
DTSTART:20260308T090000
END:DAYLIGHT
BEGIN:STANDARD
TZOFFSETFROM:-0600
TZOFFSETTO:-0700
TZNAME:MST
DTSTART:20261101T080000
END:STANDARD
END:VTIMEZONE
BEGIN:VEVENT
DTSTART;TZID=America/Denver:20251123T110000
DTEND;TZID=America/Denver:20251123T120000
DTSTAMP:20260419T171320
CREATED:20251023T215428Z
LAST-MODIFIED:20251023T215444Z
UID:13427-1763895600-1763899200@www.snyderbible.com
SUMMARY:Thanksgiving Concert
DESCRIPTION:Join us for a Thanksgiving Concert.
URL:https://www.snyderbible.com/event/thanksgiving-concert/
LOCATION:CO
END:VEVENT
BEGIN:VEVENT
DTSTART;TZID=America/Denver:20251123T120000
DTEND;TZID=America/Denver:20251123T140000
DTSTAMP:20260419T171320
CREATED:20250918T210732Z
LAST-MODIFIED:20251023T215300Z
UID:13352-1763899200-1763906400@www.snyderbible.com
SUMMARY:Church Thanksgiving  Dinner
DESCRIPTION:The Church Thanksgiving Concert and Dinner is the Sunday before Thanksgiving Day each year.  Please sign-up so we have enough food for the dinner.  You bring nothing\, everything is provided.  They may need desserts\, but someone on the committee will call you\, if they need something.
URL:https://www.snyderbible.com/event/church-thanksgiving-dinner/
LOCATION:All Purpose Building at Snyder Bible Church\, 22622 Fisher Ave.\, Snyder\, CO\, United States
CATEGORIES:Events
END:VEVENT
END:VCALENDAR