
BEGIN:VCALENDAR
VERSION:2.0
PRODID:-//Snyder Bible Church - ECPv6.15.20//NONSGML v1.0//EN
CALSCALE:GREGORIAN
METHOD:PUBLISH
X-WR-CALNAME:Snyder Bible Church
X-ORIGINAL-URL:https://www.snyderbible.com
X-WR-CALDESC:Events for Snyder Bible Church
REFRESH-INTERVAL;VALUE=DURATION:PT1H
X-Robots-Tag:noindex
X-PUBLISHED-TTL:PT1H
BEGIN:VTIMEZONE
TZID:America/Denver
BEGIN:DAYLIGHT
TZOFFSETFROM:-0700
TZOFFSETTO:-0600
TZNAME:MDT
DTSTART:20240310T090000
END:DAYLIGHT
BEGIN:STANDARD
TZOFFSETFROM:-0600
TZOFFSETTO:-0700
TZNAME:MST
DTSTART:20241103T080000
END:STANDARD
BEGIN:DAYLIGHT
TZOFFSETFROM:-0700
TZOFFSETTO:-0600
TZNAME:MDT
DTSTART:20250309T090000
END:DAYLIGHT
BEGIN:STANDARD
TZOFFSETFROM:-0600
TZOFFSETTO:-0700
TZNAME:MST
DTSTART:20251102T080000
END:STANDARD
BEGIN:DAYLIGHT
TZOFFSETFROM:-0700
TZOFFSETTO:-0600
TZNAME:MDT
DTSTART:20260308T090000
END:DAYLIGHT
BEGIN:STANDARD
TZOFFSETFROM:-0600
TZOFFSETTO:-0700
TZNAME:MST
DTSTART:20261101T080000
END:STANDARD
END:VTIMEZONE
BEGIN:VEVENT
DTSTART;TZID=America/Denver:20250719T090000
DTEND;TZID=America/Denver:20250719T120000
DTSTAMP:20260419T152736
CREATED:20250624T191856Z
LAST-MODIFIED:20250624T191856Z
UID:12976-1752915600-1752926400@www.snyderbible.com
SUMMARY:Clothing Free-4-All Shop!
DESCRIPTION:Saturday\, July 19th from 9 a.m. – noon
URL:https://www.snyderbible.com/event/clothing-free-4-all-shop-3/
LOCATION:All Purpose Building at Snyder Bible Church\, 22622 Fisher Ave.\, Snyder\, CO\, United States
END:VEVENT
BEGIN:VEVENT
DTSTART;TZID=America/Denver:20250718T090000
DTEND;TZID=America/Denver:20250718T190000
DTSTAMP:20260419T152736
CREATED:20250609T163201Z
LAST-MODIFIED:20250624T191952Z
UID:12947-1752829200-1752865200@www.snyderbible.com
SUMMARY:Clothing Free-4-All Shop!
DESCRIPTION:Friday\, July 18th from 9 a.m. – 7 p.m.
URL:https://www.snyderbible.com/event/clothing-free-4-all-shopping-days/
LOCATION:All Purpose Building at Snyder Bible Church\, 22622 Fisher Ave.\, Snyder\, CO\, United States
END:VEVENT
BEGIN:VEVENT
DTSTART;TZID=America/Denver:20250717T080000
DTEND;TZID=America/Denver:20250717T190000
DTSTAMP:20260419T152736
CREATED:20250625T165641Z
LAST-MODIFIED:20250625T165641Z
UID:12997-1752739200-1752778800@www.snyderbible.com
SUMMARY:Clothing Free-4-All Clothing Drop off Day
DESCRIPTION:You can drop off clean\, gently used clothing to the All Purpose Building (across the street from the church) at Snyder Bible Church (22622 Fisher Ave.\, Snyder) July 15-17 from 8 a.m. – 7 p.m.
URL:https://www.snyderbible.com/event/clothing-free-4-all-clothing-drop-off-day-2/
LOCATION:All Purpose Building at Snyder Bible Church\, 22622 Fisher Ave.\, Snyder\, CO\, United States
END:VEVENT
BEGIN:VEVENT
DTSTART;TZID=America/Denver:20250716T080000
DTEND;TZID=America/Denver:20250716T190000
DTSTAMP:20260419T152736
CREATED:20250625T165415Z
LAST-MODIFIED:20250625T165415Z
UID:12995-1752652800-1752692400@www.snyderbible.com
SUMMARY:Clothing Free-4-All Clothing Drop off Day
DESCRIPTION:You can drop off clean\, gently used clothing to the All Purpose Building at Snyder Bible Church (22622 Fisher Ave.\, Snyder).  The All Purpose Building is across the street from the church. \n8 a.m. – 7 p.m. July 15-18
URL:https://www.snyderbible.com/event/clothing-free-4-all-clothing-drop-off-day/
LOCATION:All Purpose Building at Snyder Bible Church\, 22622 Fisher Ave.\, Snyder\, CO\, United States
END:VEVENT
BEGIN:VEVENT
DTSTART;TZID=America/Denver:20250715T080000
DTEND;TZID=America/Denver:20250715T190000
DTSTAMP:20260419T152736
CREATED:20250609T163045Z
LAST-MODIFIED:20250625T165715Z
UID:12944-1752566400-1752606000@www.snyderbible.com
SUMMARY:Clothing Free-4-All Clothing Drop off Day
DESCRIPTION:The Clothing Free-4-All starts Tuesday\, July 15th. From July 15th – July 17th\, you can bring clothes to the All Purpose Building at the Church from 8 a.m. – 7 p.m. daily \nJuly 18th – 19th are “shopping days” from 9 a.m. – 7 p.m. on Friday\, July 18th and 9 a.m. – noon on Saturday\, July 19th. \n 
URL:https://www.snyderbible.com/event/clothing-free-4-all-13/
LOCATION:All Purpose Building at Snyder Bible Church\, 22622 Fisher Ave.\, Snyder\, CO\, United States
END:VEVENT
BEGIN:VEVENT
DTSTART;TZID=America/Denver:20250530T180000
DTEND;TZID=America/Denver:20250530T190000
DTSTAMP:20260419T152736
CREATED:20250530T194728Z
LAST-MODIFIED:20250530T194728Z
UID:12895-1748628000-1748631600@www.snyderbible.com
SUMMARY:Vacation Bible School Program
DESCRIPTION:Come see what the kids learned this week! \nFood will be provided after the program
URL:https://www.snyderbible.com/event/vacation-bible-school-program/
LOCATION:Snyder Bible Church\, 22622 Fisher Ave\, Snyder\, CO\, 80750
END:VEVENT
BEGIN:VEVENT
DTSTART;TZID=America/Denver:20250526T083000
DTEND;TZID=America/Denver:20250530T120000
DTSTAMP:20260419T152736
CREATED:20250415T221154Z
LAST-MODIFIED:20250530T194828Z
UID:12795-1748248200-1748606400@www.snyderbible.com
SUMMARY:Vacation Bible School
DESCRIPTION:8:15-noon daily \nFor ages 3-11 \nIt’s Free! \nRegister online:  https://www.myvbs.org/snyderbible \n \n 
URL:https://www.snyderbible.com/event/vacation-bible-school-13/
LOCATION:Snyder Bible Church\, 22622 Fisher Ave.\, Snyder\, CO\, 80750
END:VEVENT
BEGIN:VEVENT
DTSTART;TZID=America/Denver:20250504T180000
DTEND;TZID=America/Denver:20250504T200000
DTSTAMP:20260419T152736
CREATED:20250415T221043Z
LAST-MODIFIED:20250415T221043Z
UID:12793-1746381600-1746388800@www.snyderbible.com
SUMMARY:Senior Recognition
DESCRIPTION:Senior Recognition: Sunday\, May 4th at 6 p.m.  There is a sign-up sheet for homemade ice cream and brownies.
URL:https://www.snyderbible.com/event/senior-recognition-2/
LOCATION:Snyder Bible Church\, 22622 Fisher Ave.\, Snyder\, CO\, 80750
END:VEVENT
BEGIN:VEVENT
DTSTART;TZID=America/Denver:20250424T180000
DTEND;TZID=America/Denver:20250424T190000
DTSTAMP:20260419T152736
CREATED:20250415T220846Z
LAST-MODIFIED:20250415T220846Z
UID:12791-1745517600-1745521200@www.snyderbible.com
SUMMARY:Younger Ages and Stages Dinner
DESCRIPTION:Join us for walking tacos and a night of fellowship! A sign-up sheet is on the back counter for food needed and the number of attendees. If you have any questions talk to Austin and Alicia Couch or Matt and Jen Wood.
URL:https://www.snyderbible.com/event/younger-ages-and-stages-dinner-11/
LOCATION:All Purpose Building at Snyder Bible Church\, 22622 Fisher Ave.\, Snyder\, CO\, United States
CATEGORIES:Family Event
END:VEVENT
BEGIN:VEVENT
DTSTART;TZID=America/Denver:20250420T110000
DTEND;TZID=America/Denver:20250420T120000
DTSTAMP:20260419T152736
CREATED:20250415T211611Z
LAST-MODIFIED:20250415T211611Z
UID:12786-1745146800-1745150400@www.snyderbible.com
SUMMARY:Easter Morning Service
DESCRIPTION:Join us for our Easter Sunday Service
URL:https://www.snyderbible.com/event/easter-morning-service/
LOCATION:Snyder Bible Church\, 22622 Fisher Ave.\, Snyder\, CO\, 80750
END:VEVENT
BEGIN:VEVENT
DTSTART;TZID=America/Denver:20250420T083000
DTEND;TZID=America/Denver:20250420T093000
DTSTAMP:20260419T152736
CREATED:20250304T220638Z
LAST-MODIFIED:20250304T220638Z
UID:12668-1745137800-1745141400@www.snyderbible.com
SUMMARY:Easter Breakfast
DESCRIPTION:Easter Breakfast: 8:30 a.m. in the All Purpose Building\nEaster Egg Hunt\nSunday School: 10 a.m.\n\nWorship Service: 11 a.m.\nNO Youth Group\nNO Evening Service
URL:https://www.snyderbible.com/event/easter-breakfast-7/
LOCATION:All Purpose Building at Snyder Bible Church\, 22622 Fisher Ave.\, Snyder\, CO\, United States
END:VEVENT
BEGIN:VEVENT
DTSTART;TZID=America/Denver:20250418T180000
DTEND;TZID=America/Denver:20250418T190000
DTSTAMP:20260419T152736
CREATED:20250319T205059Z
LAST-MODIFIED:20250319T205059Z
UID:12716-1744999200-1745002800@www.snyderbible.com
SUMMARY:Good Friday Service
DESCRIPTION:
URL:https://www.snyderbible.com/event/good-friday-service-5/
LOCATION:Snyder Bible Church\, 22622 Fisher Ave\, Snyder\, CO\, 80750
END:VEVENT
BEGIN:VEVENT
DTSTART;TZID=America/Denver:20250405T170000
DTEND;TZID=America/Denver:20250405T183000
DTSTAMP:20260419T152736
CREATED:20250319T205416Z
LAST-MODIFIED:20250319T205416Z
UID:12718-1743872400-1743877800@www.snyderbible.com
SUMMARY:Ladies' Night
DESCRIPTION:Ladies’ Night: Saturday\, April 5th at 5 p.m.  We will have dinner\, fun conversation\, and a devotional.  Be prepared to share a money saving tip if desired.  Dinner will be provided.
URL:https://www.snyderbible.com/event/ladies-night/
LOCATION:Sunday School Building at Snyder Bible Church\, 22622 Fisher Ave.\, Snyder\, CO\, 80750\, United States
CATEGORIES:Ladies' Event
END:VEVENT
BEGIN:VEVENT
DTSTART;TZID=America/Denver:20250316T180000
DTEND;TZID=America/Denver:20250316T200000
DTSTAMP:20260419T152736
CREATED:20250225T201532Z
LAST-MODIFIED:20250311T200904Z
UID:12632-1742148000-1742155200@www.snyderbible.com
SUMMARY:All Church Skating Party and Potluck
DESCRIPTION:Bring Food to share at the potluck. \nBring table games\, if you want. \n 
URL:https://www.snyderbible.com/event/skating-party-and-potluck-2/
LOCATION:Ortiz Event Center\, 1615 Edison\, Brush\, CO\, 80723\, United States
CATEGORIES:Family Event
END:VEVENT
BEGIN:VEVENT
DTSTART;TZID=America/Denver:20250316T130000
DTEND;TZID=America/Denver:20250316T170000
DTSTAMP:20260419T152736
CREATED:20250304T215744Z
LAST-MODIFIED:20250304T215755Z
UID:12666-1742130000-1742144400@www.snyderbible.com
SUMMARY:Northern Village Ministries (Canada Mission Trip) Meeting
DESCRIPTION:This is an informational meeting about the plans for the trip July 4-13.
URL:https://www.snyderbible.com/event/northern-village-ministries-canada-mission-trip-meeting/
LOCATION:All Purpose Building at Snyder Bible Church\, 22622 Fisher Ave.\, Snyder\, CO\, United States
END:VEVENT
BEGIN:VEVENT
DTSTART;TZID=America/Denver:20250316T120000
DTEND;TZID=America/Denver:20250316T140000
DTSTAMP:20260419T152736
CREATED:20250225T204107Z
LAST-MODIFIED:20250311T200930Z
UID:12634-1742126400-1742133600@www.snyderbible.com
SUMMARY:Senior Singles Potluck
DESCRIPTION:Senior Singles Potluck and Games: the 3rd Sunday of the month in the Sunday School Building.  It’s a lunch potluck for those singles who are not a fit for the Younger Ages and Stages group!  There will be food (potluck style)\, games and fellowship.
URL:https://www.snyderbible.com/event/senior-singles/
LOCATION:Snyder Bible Church\, 22622 Fisher Ave\, Snyder\, CO\, 80750
END:VEVENT
BEGIN:VEVENT
DTSTART;TZID=America/Denver:20250227T180000
DTEND;TZID=America/Denver:20250227T193000
DTSTAMP:20260419T152736
CREATED:20250121T210252Z
LAST-MODIFIED:20250121T210252Z
UID:12555-1740679200-1740684600@www.snyderbible.com
SUMMARY:Younger Ages and Stages Chili Supper
DESCRIPTION:IN the All Purpose Building.  Join us for a night of fellowship and a chili and cinnamon roll potluck.
URL:https://www.snyderbible.com/event/younger-ages-and-stages-chili-supper/
LOCATION:All Purpose Building at Snyder Bible Church\, 22622 Fisher Ave.\, Snyder\, CO\, United States
END:VEVENT
BEGIN:VEVENT
DTSTART;TZID=America/Denver:20250222T183000
DTEND;TZID=America/Denver:20250222T200000
DTSTAMP:20260419T152736
CREATED:20250123T225403Z
LAST-MODIFIED:20250123T225403Z
UID:12571-1740249000-1740254400@www.snyderbible.com
SUMMARY:The Love Feast
DESCRIPTION:This is a “Valentine Banquet” meant for everyone\, not just couples. \nBaby sitting is provided.
URL:https://www.snyderbible.com/event/the-love-feast-2/
LOCATION:Snyder Bible Church\, 22622 Fisher Ave\, Snyder\, CO\, 80750
CATEGORIES:Events
END:VEVENT
BEGIN:VEVENT
DTSTART;TZID=America/Denver:20250216T120000
DTEND;TZID=America/Denver:20250216T133000
DTSTAMP:20260419T152736
CREATED:20250123T230319Z
LAST-MODIFIED:20250213T191020Z
UID:12575-1739707200-1739712600@www.snyderbible.com
SUMMARY:Cancelled - Senior Singles Dinner
DESCRIPTION:
URL:https://www.snyderbible.com/event/senior-singles-dinner/
LOCATION:Snyder Bible Church\, 22622 Fisher Ave\, Snyder\, CO\, 80750
END:VEVENT
BEGIN:VEVENT
DTSTART;TZID=America/Denver:20250209T163000
DTEND;TZID=America/Denver:20250209T200000
DTSTAMP:20260419T152736
CREATED:20250121T210039Z
LAST-MODIFIED:20250121T210039Z
UID:12553-1739118600-1739131200@www.snyderbible.com
SUMMARY:Youth Group Super Bowl Party
DESCRIPTION:
URL:https://www.snyderbible.com/event/youth-group-super-bowl-party-3/
LOCATION:Snyder Bible Church\, 22622 Fisher Ave\, Snyder\, CO\, 80750
CATEGORIES:Youth Event
END:VEVENT
BEGIN:VEVENT
DTSTART;TZID=America/Denver:20250207T180000
DTEND;TZID=America/Denver:20250207T193000
DTSTAMP:20260419T152736
CREATED:20250123T225539Z
LAST-MODIFIED:20250123T225539Z
UID:12573-1738951200-1738956600@www.snyderbible.com
SUMMARY:Men's Game Night
DESCRIPTION:Come play cards or board games.  Feel free to bring a board game. \nFood will be provided.
URL:https://www.snyderbible.com/event/mens-game-night/
LOCATION:Snyder Bible Church\, 22622 Fisher Ave\, Snyder\, CO\, 80750
CATEGORIES:Men's Event
END:VEVENT
BEGIN:VEVENT
DTSTART;TZID=America/Denver:20250126T120000
DTEND;TZID=America/Denver:20250126T150000
DTSTAMP:20260419T152736
CREATED:20241226T163907Z
LAST-MODIFIED:20241226T163907Z
UID:12495-1737892800-1737903600@www.snyderbible.com
SUMMARY:Annual Business Meeting and Potluck
DESCRIPTION:Join us for our annual business meeting and potluck.  The potluck starts at noon (follows the Worship Service)\, the business meeting follows the potluck. \nWe need a quorum for business to be conducted at the business meeting\, so please\, if you are a member\, attend the meeting.  Everyone else is encouraged to attend so you can learn more about how the church conducts everyday business!
URL:https://www.snyderbible.com/event/annual-business-meeting-and-potluck-4/
LOCATION:Snyder Bible Church\, 22622 Fisher Ave\, Snyder\, CO\, 80750
END:VEVENT
BEGIN:VEVENT
DTSTART;TZID=America/Denver:20250124T183000
DTEND;TZID=America/Denver:20250124T200000
DTSTAMP:20260419T152736
CREATED:20241223T151856Z
LAST-MODIFIED:20241223T153944Z
UID:12487-1737743400-1737748800@www.snyderbible.com
SUMMARY:Ladies' Bunco Night
DESCRIPTION:
URL:https://www.snyderbible.com/event/ladies-bunco-night-4/
LOCATION:Snyder Bible Church\, 22622 Fisher Ave\, Snyder\, CO\, 80750
CATEGORIES:Ladies' Event
END:VEVENT
BEGIN:VEVENT
DTSTART;TZID=America/Denver:20250119T120000
DTEND;TZID=America/Denver:20250119T130000
DTSTAMP:20260419T152736
CREATED:20241104T234139Z
LAST-MODIFIED:20241226T163953Z
UID:12322-1737288000-1737291600@www.snyderbible.com
SUMMARY:Senior Singles Potluck and Games
DESCRIPTION:Senior Single’s Potluck and Games: the 3rd Sunday of the month in the Sunday School Building.  It’s a lunch potluck for those singles who are not a fit for the Younger Ages and Stages group!  There will be food (potluck style)\, games and fellowship.
URL:https://www.snyderbible.com/event/senior-singles-potluck-and-games/
LOCATION:Sunday School Building at Snyder Bible Church\, 22622 Fisher Ave.\, Snyder\, CO\, 80750\, United States
END:VEVENT
END:VCALENDAR