
BEGIN:VCALENDAR
VERSION:2.0
PRODID:-//Snyder Bible Church - ECPv6.15.20//NONSGML v1.0//EN
CALSCALE:GREGORIAN
METHOD:PUBLISH
X-WR-CALNAME:Snyder Bible Church
X-ORIGINAL-URL:https://www.snyderbible.com
X-WR-CALDESC:Events for Snyder Bible Church
REFRESH-INTERVAL;VALUE=DURATION:PT1H
X-Robots-Tag:noindex
X-PUBLISHED-TTL:PT1H
BEGIN:VTIMEZONE
TZID:America/Denver
BEGIN:DAYLIGHT
TZOFFSETFROM:-0700
TZOFFSETTO:-0600
TZNAME:MDT
DTSTART:20240310T090000
END:DAYLIGHT
BEGIN:STANDARD
TZOFFSETFROM:-0600
TZOFFSETTO:-0700
TZNAME:MST
DTSTART:20241103T080000
END:STANDARD
BEGIN:DAYLIGHT
TZOFFSETFROM:-0700
TZOFFSETTO:-0600
TZNAME:MDT
DTSTART:20250309T090000
END:DAYLIGHT
BEGIN:STANDARD
TZOFFSETFROM:-0600
TZOFFSETTO:-0700
TZNAME:MST
DTSTART:20251102T080000
END:STANDARD
BEGIN:DAYLIGHT
TZOFFSETFROM:-0700
TZOFFSETTO:-0600
TZNAME:MDT
DTSTART:20260308T090000
END:DAYLIGHT
BEGIN:STANDARD
TZOFFSETFROM:-0600
TZOFFSETTO:-0700
TZNAME:MST
DTSTART:20261101T080000
END:STANDARD
END:VTIMEZONE
BEGIN:VEVENT
DTSTART;TZID=America/Denver:20250803T170000
DTEND;TZID=America/Denver:20250803T190000
DTSTAMP:20260418T100707
CREATED:20250718T204206Z
LAST-MODIFIED:20250728T002753Z
UID:13068-1754240400-1754247600@www.snyderbible.com
SUMMARY:Church Picnic & Pool Party
DESCRIPTION:Please bring a main dish and either a side dish or dessert \nBring table or lawn games \nPicnic at 5 p.m.\, pool opens at 5:30 p.m. \nPicnic is at the Moose Shelter (the southern most shelter) Memorial Park in Brush
URL:https://www.snyderbible.com/event/church-picnic-pool-party/
LOCATION:Memorial Park\, 500 S. Clayton St.\, Brush\, CO\, 80723\, United States
CATEGORIES:Family Event
END:VEVENT
BEGIN:VEVENT
DTSTART;TZID=America/Denver:20250817T120000
DTEND;TZID=America/Denver:20250817T133000
DTSTAMP:20260418T100707
CREATED:20250812T200923Z
LAST-MODIFIED:20250812T200923Z
UID:13127-1755432000-1755437400@www.snyderbible.com
SUMMARY:Senior Singles Sunday Dinner
DESCRIPTION:If you are 50ish plus years\, are single and want to spend some time with others like you\, come to the church for the Morning Worship Service\, then over to the Adult Sunday School Room for some fellowship\, food\, games…
URL:https://www.snyderbible.com/event/senior-singles-sunday-dinner/
LOCATION:Snyder Bible Church\, 22622 Fisher Ave.\, Snyder\, CO\, 80750
END:VEVENT
END:VCALENDAR